BEGIN:VCALENDAR
VERSION:2.0
PRODID:-//wp-events-plugin.com//7.2.3.1//EN
TZID:Europe/Amsterdam
X-WR-TIMEZONE:Europe/Amsterdam
BEGIN:VEVENT
UID:27@historischekringvelsen.nl
DTSTART;TZID=Europe/Amsterdam:20260511T200000
DTEND;TZID=Europe/Amsterdam:20260511T220000
DTSTAMP:20260319T203217Z
URL:https://historischekringvelsen.nl/events/vijfde-themalezing-in-jubileu
 mjaar-vindt-plaats-in-het-buko-stadion-en-gaat-over-het-ontstaan-van-telst
 ar-uit-twee-rivaliserende-clubs-uit-ijmuiden-in-de-jaren-60/
SUMMARY:Onze vijfde themalezing in dit jubileumjaar vindt plaats in het Buk
 o stadion en gaat over het ontstaan van Telstar uit twee rivaliserende clu
 bs uit IJmuiden in de jaren '60
DESCRIPTION:Foto hierboven:\nTelstar in 1964. © Foto Nationaal Archief\n\
 n\n\n\nOp maandag 11 mei 2026 zal de vijfde themalezing in dit jubileumjaa
 r worden gegeven door Leen Prins\, Nico Stoker en Hans Stoelman over het o
 ntstaan van Telstar.\nDeze lezing zal worden gegeven in de mooie ruime pre
 sentatie zaal van het BUKO stadion van Telstar.\n\n[caption id="attachment
 _15461" align="aligncenter" width="500"] Afbeeldingen kunnen worden uitver
 groot door erop te klikken.[/caption]\n\nDe lezing zal gaan over het ontst
 aan en de rijke historie van het betaalde profvoetbal in IJmuiden en de Ge
 meente Velsen. De voetbalclubs van Stormvogels\, VSV en Telstar staan hier
 in centraal.\n\n[caption id="attachment_15463" align="aligncenter" width="
 500"] Promotie van Telstar in 2025[/caption]\nTelstar staat bekend om zijn
  volkskarakter\, unieke sfeer en als een club met een hoog 'aaibaarheidsge
 halte' in de IJmond-regio. De bijnaam "De Witte Leeuwen" dankt de club aa
 n het volledig witte tenue\, waarop het kleurrijke logo sterk opvalt. Onde
 r leiding van Anthony Correia promoveerde de club in 2025 via de play-offs
  terug naar de Eredivisie. Na decennia in de Eerste Divisie te hebben gesp
 eeld\, schrijft Telstar met de promotie in 2025 een nieuw hoofdstuk in de 
 rijke historie.\n\n\n[caption id="attachment_15470" align="aligncenter" wi
 dth="500"] Telstar is ontstaan na een fusie van de profvoetbal afdelingen 
 van de voetbalclubs Stormvogels en VSV uit IJmuiden.[/caption]\n\n[caption
  id="attachment_15464" align="aligncenter" width="500"] Promotie van Telst
 ar in 1964 - Noord-Hollands Archief[/caption]\n\nDe hernieuwde aandacht vo
 or Telstar is natuurlijk groot en zeer terecht. In het hier en nu zijn we 
 dan ook nieuwsgierig naar het ontstaan van een dergelijk fenomeen. Op deze
  lezingavond van de Historische Kring Velsen nemen we dan ook een flinke d
 uik in het verleden.\n\n[caption id="attachment_15465" align="aligncenter"
  width="500"] Promotie van Telstar in 1964 - Noord-Hollands Archief[/capti
 on]\n\nDe lezing zal worden gegeven door drie presentatoren:\n\n 	Leen Pri
 ns (bestuurslid Telstar)\,\n 	Nico Stoker (ex-bestuurslid Telstar en voorz
 itter van Stormvogels)\,\n 	Hans Stoelman (voorzitter van VSV)\n\nZij neme
 n u mee in de rijke geschiedenis van de founding fathers van Telstar\, te 
 weten Stormvogels en VSV. Deze geschiedenis zal gaan over hun ontstaan in 
 1912 en de uiteindelijke fusie van de twee betaalde profvoetbal-elftallen 
 van deze verenigingen in 1963\, waaruit Telstar is ontstaan.\n\n[caption i
 d="attachment_15466" align="aligncenter" width="500"] Vlak na de promotie 
 in 2025[/caption]\n\nU wordt meegenomen in de mooie historie van alle drie
  de clubs. Hun vallen en opstaan\, de anekdotes\, de successen\, de uitdag
 ingen en uiteraard ook een blik naar de toekomst!\n\n[caption id="attachme
 nt_14596" align="aligncenter" width="250"] In het jubileumjaar 2026 organi
 seert de Historische Kring Velsen een aantal themalezingen die allemaal be
 trekking hebben op de viering van 150 jaar IJmuiden en het Noordzeekanaal.
 [/caption]\n\nU kunt zich hieronder aanmelden voor deze onderhoudende avon
 d over de rijke voetbalgeschiedenis in IJmuiden en Velsen.\n\n[caption id=
 "attachment_15469" align="alignnone" width="500"] BUKO stadion Telstar - P
 resentatie zaal[/caption]\n\n- Aanvang 20.00 uur\, zaal open 19.00 uur.\n-
  Gratis parkeren op loopafstand.\n- De toegang is gratis voor leden van de
  Historische Kring Velsen.\n- Wordt lid voor slechts € 17\,50 \, dan is 
 de toegang tot deze en al onze andere lezingen gratis.\n- Niet-leden wordt
  een bijdrage van € 5\,00 gevraagd.\n- Aanmelden is verplicht.\n\n\n\nU 
 kunt zich hier aanmelden voor deze lezing.\nNadat u zich heeft aangemeld\,
  ziet u onder dit formulier een bevestiging verschijnen.\nOok ontvangt u e
 en bevestigingsmail. Uw aanmelding is dan geslaagd.\n\n[contact-form-7 id=
 "c66b684" title="Aanmeldingsformulier Lezing 2026-05 door Leen Prins en Ni
 co Stoker over het ontstaan van Telstar"]\n\n
ATTACH;FMTTYPE=image/jpeg:https://historischekringvelsen.nl/wp-content/upl
 oads/2026/01/Telstar-in-1964-Foto-Nationaal-Archief-1280x720-1.jpg
CATEGORIES:Lezing
LOCATION:BUKO Stadion Telstar (Sportpark Schoonenberg)\, Minister van Houte
 nlaan 123\, Velsen-Zuid\, NH\, 2051 EC\, Nederland
GEO:52.454966;4.63413
X-APPLE-STRUCTURED-LOCATION;VALUE=URI;X-ADDRESS=Minister van Houtenlaan 123
 \, Velsen-Zuid\, NH\, 2051 EC\, Nederland;X-APPLE-RADIUS=100;X-TITLE=BUKO 
 Stadion Telstar (Sportpark Schoonenberg):geo:52.454966,4.63413
END:VEVENT
BEGIN:VTIMEZONE
TZID:Europe/Amsterdam
X-LIC-LOCATION:Europe/Amsterdam
BEGIN:DAYLIGHT
DTSTART:20260329T030000
TZOFFSETFROM:+0100
TZOFFSETTO:+0200
TZNAME:CEST
END:DAYLIGHT
END:VTIMEZONE
END:VCALENDAR